BEGIN:VCALENDAR
VERSION:2.0
PRODID:-//Gower Ornithological Society - ECPv6.15.20//NONSGML v1.0//EN
CALSCALE:GREGORIAN
METHOD:PUBLISH
X-WR-CALNAME:Gower Ornithological Society
X-ORIGINAL-URL:https://www.gowerbirds.org.uk
X-WR-CALDESC:Events for Gower Ornithological Society
REFRESH-INTERVAL;VALUE=DURATION:PT1H
X-Robots-Tag:noindex
X-PUBLISHED-TTL:PT1H
BEGIN:VTIMEZONE
TZID:Europe/London
BEGIN:DAYLIGHT
TZOFFSETFROM:+0000
TZOFFSETTO:+0100
TZNAME:BST
DTSTART:20230326T010000
END:DAYLIGHT
BEGIN:STANDARD
TZOFFSETFROM:+0100
TZOFFSETTO:+0000
TZNAME:GMT
DTSTART:20231029T010000
END:STANDARD
BEGIN:DAYLIGHT
TZOFFSETFROM:+0000
TZOFFSETTO:+0100
TZNAME:BST
DTSTART:20240331T010000
END:DAYLIGHT
BEGIN:STANDARD
TZOFFSETFROM:+0100
TZOFFSETTO:+0000
TZNAME:GMT
DTSTART:20241027T010000
END:STANDARD
BEGIN:DAYLIGHT
TZOFFSETFROM:+0000
TZOFFSETTO:+0100
TZNAME:BST
DTSTART:20250330T010000
END:DAYLIGHT
BEGIN:STANDARD
TZOFFSETFROM:+0100
TZOFFSETTO:+0000
TZNAME:GMT
DTSTART:20251026T010000
END:STANDARD
END:VTIMEZONE
BEGIN:VEVENT
DTSTART;TZID=Europe/London:20240106T123000
DTEND;TZID=Europe/London:20240106T153000
DTSTAMP:20260419T232035
CREATED:20231231T184236Z
LAST-MODIFIED:20231231T184236Z
UID:4575-1704544200-1704555000@www.gowerbirds.org.uk
SUMMARY:Llanrhidian Roost Watch
DESCRIPTION:Ed Hunter will lead the first field trip of the New Year to Llanrhidian. \nThis will be afternoon watch to look for harriers (hen\, marsh and potentially pallid)\, egrets and falcons and what else comes into view (short-eared owl and barn owl are sometimes present). \nMeet at the Cattle Grid at the junction of the marsh road and the lane down from the main North Gower Road B4295. \nLocation: \n\nOrdnance Survey Grid Reference SS 50333 93315\nWhat3Words: outermost.weep.spaces\nLlanrhidian Lower\, Llanrhidian\, Swansea\, Wales\, SA3 1EU\, United Kingdom\n\nPlease wear warm clothes and bring a picnic chair and flask. \nLate arrivals and early leavers welcome. We will be completing a static watch / only walking a very short distance.
URL:https://www.gowerbirds.org.uk/event/llanrhidian-roost-watch/
LOCATION:Llanrhidian\, Swansea\, Swansea\, SA3 1EU\, United Kingdom
CATEGORIES:Field Trip
ATTACH;FMTTYPE=image/jpeg:https://www.gowerbirds.org.uk/wp-content/uploads/2023/12/vincent-van-zalinge-rbaU7FIad-w-unsplash-1.jpg
ORGANIZER;CN="Ed Hunter":MAILTO:edhunterhere@yahoo.com
END:VEVENT
END:VCALENDAR