BEGIN:VCALENDAR
VERSION:2.0
PRODID:-//Gower Ornithological Society - ECPv6.15.20//NONSGML v1.0//EN
CALSCALE:GREGORIAN
METHOD:PUBLISH
X-WR-CALNAME:Gower Ornithological Society
X-ORIGINAL-URL:https://www.gowerbirds.org.uk
X-WR-CALDESC:Events for Gower Ornithological Society
REFRESH-INTERVAL;VALUE=DURATION:PT1H
X-Robots-Tag:noindex
X-PUBLISHED-TTL:PT1H
BEGIN:VTIMEZONE
TZID:Europe/London
BEGIN:DAYLIGHT
TZOFFSETFROM:+0000
TZOFFSETTO:+0100
TZNAME:BST
DTSTART:20230326T010000
END:DAYLIGHT
BEGIN:STANDARD
TZOFFSETFROM:+0100
TZOFFSETTO:+0000
TZNAME:GMT
DTSTART:20231029T010000
END:STANDARD
BEGIN:DAYLIGHT
TZOFFSETFROM:+0000
TZOFFSETTO:+0100
TZNAME:BST
DTSTART:20240331T010000
END:DAYLIGHT
BEGIN:STANDARD
TZOFFSETFROM:+0100
TZOFFSETTO:+0000
TZNAME:GMT
DTSTART:20241027T010000
END:STANDARD
BEGIN:DAYLIGHT
TZOFFSETFROM:+0000
TZOFFSETTO:+0100
TZNAME:BST
DTSTART:20250330T010000
END:DAYLIGHT
BEGIN:STANDARD
TZOFFSETFROM:+0100
TZOFFSETTO:+0000
TZNAME:GMT
DTSTART:20251026T010000
END:STANDARD
END:VTIMEZONE
BEGIN:VEVENT
DTSTART;TZID=Europe/London:20241115T191500
DTEND;TZID=Europe/London:20241115T210000
DTSTAMP:20260420T034051
CREATED:20240814T164140Z
LAST-MODIFIED:20240819T124842Z
UID:4932-1731698100-1731704400@www.gowerbirds.org.uk
SUMMARY:GOS Annual General Meeting (AGM) and a Summary of 10 Years of Ringing at Oxwich
DESCRIPTION:Our AGM will provide members with information on GOS’s activities over the past year\, our financial status and current membership. We will also confirm / reappoint committee members (and would welcome hearing from anyone who would like to join the committee).  \nFollowing the AGM\, Owain Gabb will provide a summary of ten years of ringing at Natural Resources Wales’s Oxwich Marsh National Nature Reserve. During this period almost 50\,000 birds have been caught at the marsh by Gower Ringing Group\, providing a huge amount of information on seasonal patterns of use\, timing of local migration and site fidelity in both breeding and wintering birds. The occasional rarity and local scarcity has been captured\, including (memorably) a little bunting\, two wrynecks and currently a total of 26 yellow-browed warblers. \nWe will meet again in the rooms at St Paul’s Church\, off De La Beche Road\, Sketty. There is ample parking. It is £1 on the door to cover room hire.
URL:https://www.gowerbirds.org.uk/event/gos-annual-general-meeting-agm-and-a-summary-of-10-years-of-ringing-at-oxwich/
CATEGORIES:Indoor Meeting
ATTACH;FMTTYPE=image/jpeg:https://www.gowerbirds.org.uk/wp-content/uploads/2024/08/Group.jpg
END:VEVENT
BEGIN:VEVENT
DTSTART;TZID=Europe/London:20241018T191500
DTEND;TZID=Europe/London:20241018T210000
DTSTAMP:20260420T034051
CREATED:20240719T112345Z
LAST-MODIFIED:20240719T112345Z
UID:4901-1729278900-1729285200@www.gowerbirds.org.uk
SUMMARY:Long-eared Owls in our Recording Area
DESCRIPTION:Mike Shewring will talk to us about one of our most enigmatic species\, the long-eared owl. Mike has planned and undertaken a survey of the species in suitable habitat in the eastern part of our recording area\, and will talk us through the results (which also include some fascinating observations of other species). \nWe will meet again in the rooms at St Paul’s Church\, off De La Beche Road\, Sketty. There is ample parking. It is £1 on the door to cover room hire. \nPhoto by Phil Robson on Unsplash
URL:https://www.gowerbirds.org.uk/event/long-eared-owls-in-our-recording-area/
LOCATION:St Paul’s Parish Hall\, De la Beche Road\, Swansea\, SA2 9AR\, United Kingdom
CATEGORIES:Indoor Meeting
ATTACH;FMTTYPE=image/jpeg:https://www.gowerbirds.org.uk/wp-content/uploads/2024/07/LEO.jpg
ORGANIZER;CN="Jeremy D Jones":MAILTO:jeremy@douglas-jones.biz
END:VEVENT
BEGIN:VEVENT
DTSTART;TZID=Europe/London:20240710T200000
DTEND;TZID=Europe/London:20240710T213000
DTSTAMP:20260420T034051
CREATED:20240627T071124Z
LAST-MODIFIED:20240627T071124Z
UID:4848-1720641600-1720647000@www.gowerbirds.org.uk
SUMMARY:Swift walk: Sketty
DESCRIPTION:As part of Wales Nature Week Swansea City Council and Gower Ornithological Society are running a number of swift walks in areas of town which are local hotspots for the species. Attendance is free. Please come along.
URL:https://www.gowerbirds.org.uk/event/swift-walk-sketty/
LOCATION:Queens Road\, Sketty
CATEGORIES:Field Trip
ATTACH;FMTTYPE=image/jpeg:https://www.gowerbirds.org.uk/wp-content/uploads/2024/06/Saving-Swanseas-Swifts-event_Sketty_English.jpg
END:VEVENT
BEGIN:VEVENT
DTSTART;TZID=Europe/London:20240708T200000
DTEND;TZID=Europe/London:20240708T213000
DTSTAMP:20260420T034051
CREATED:20240627T071340Z
LAST-MODIFIED:20240627T071340Z
UID:4851-1720468800-1720474200@www.gowerbirds.org.uk
SUMMARY:Swift walk: Plasmarl
DESCRIPTION:As part of Wales Nature Week Swansea City Council and Gower Ornithological Society are running a number of swift walks in areas of town which are local hotspots for the species. Attendance is free. Please come along.
URL:https://www.gowerbirds.org.uk/event/swift-walk-plasmarl/
LOCATION:Davis Street\, Plasmarl
CATEGORIES:Field Trip
ATTACH;FMTTYPE=image/jpeg:https://www.gowerbirds.org.uk/wp-content/uploads/2024/06/Saving-Swanseas-Swifts-event_Plasmarl_English.jpg
END:VEVENT
BEGIN:VEVENT
DTSTART;TZID=Europe/London:20240704T200000
DTEND;TZID=Europe/London:20240704T213000
DTSTAMP:20260420T034051
CREATED:20240627T070811Z
LAST-MODIFIED:20240704T162612Z
UID:4845-1720123200-1720128600@www.gowerbirds.org.uk
SUMMARY:CANCELLED Swift Walk: Gorseinon
DESCRIPTION:Unfortunately the weather has forced the cancellation of tonight’s swift survey in Gorseinon \nAs part of Wales Nature Week Swansea City Council and Gower Ornithological Society are running a number of swift walks in areas of town which are local hotspots for the species. Attendance is free. Please come along.
URL:https://www.gowerbirds.org.uk/event/swift-walk-gorseinon/
LOCATION:Bryn-Amlwg Road\, Gorseinon
CATEGORIES:Field Trip
ATTACH;FMTTYPE=image/jpeg:https://www.gowerbirds.org.uk/wp-content/uploads/2024/06/Swift-event_Gorseinion_English.jpg
END:VEVENT
BEGIN:VEVENT
DTSTART;TZID=Europe/London:20240701T200000
DTEND;TZID=Europe/London:20240701T213000
DTSTAMP:20260420T034051
CREATED:20240627T070505Z
LAST-MODIFIED:20240627T070505Z
UID:4838-1719864000-1719869400@www.gowerbirds.org.uk
SUMMARY:Swift walk: Mount Pleasant
DESCRIPTION:As part of Wales Nature Week Swansea City Council and Gower Ornithological Society are running a number of swift walks in areas of town which are local hotspots for the species. Attendance is free. Please come along.
URL:https://www.gowerbirds.org.uk/event/swift-walk-mount-pleasant/
LOCATION:Primrose Hill\, Mount Pleasant\, Swansea
CATEGORIES:Field Trip
ATTACH;FMTTYPE=image/jpeg:https://www.gowerbirds.org.uk/wp-content/uploads/2024/06/Swift-event_Mount-Pleasant_English.jpg
END:VEVENT
BEGIN:VEVENT
DTSTART;TZID=Europe/London:20240615T203000
DTEND;TZID=Europe/London:20240615T223000
DTSTAMP:20260420T034051
CREATED:20240501T174615Z
LAST-MODIFIED:20240504T124612Z
UID:4793-1718483400-1718490600@www.gowerbirds.org.uk
SUMMARY:Nightjar Walk\, Resolven
DESCRIPTION:A gentle walk into the forestry to watch and listen for nightjar. Other species that have the potential to be present include goshawk\, crossbill\, lesser redpoll\, siskin\, grasshopper warbler and a range of more widespread species. \nThe event will be led by Eddie Hunter\, and will be a couple of hours duration. \nPlease bring midge repellent\, snacks / drink and ensure you wear appropriate footwear for the rough tracks that we will be walking on. \nPark off B4242 south of Abergarwed at Ordnance Survey Grid Reference SN 81343 02218\, What3Words ///ants.tortoises.director \nPlease register with Jeremy Douglas-Jones in case we need to refine arrangements.
URL:https://www.gowerbirds.org.uk/event/nightjar-walk-resolven/
CATEGORIES:Field Trip
ATTACH;FMTTYPE=image/jpeg:https://www.gowerbirds.org.uk/wp-content/uploads/2024/05/Adult-nightjar-on-nest-in-clear-felled-plantation.jpg
ORGANIZER;CN="Jeremy D Jones":MAILTO:jeremy@douglas-jones.biz
END:VEVENT
BEGIN:VEVENT
DTSTART;TZID=Europe/London:20240512T080000
DTEND;TZID=Europe/London:20240512T120000
DTSTAMP:20260420T034051
CREATED:20240419T094407Z
LAST-MODIFIED:20240507T041757Z
UID:4772-1715500800-1715515200@www.gowerbirds.org.uk
SUMMARY:Margam Moors Field Trip
DESCRIPTION:  \nA three hour (estimated) walk around Margam Moors starting at 08:00 and covering 3-4 miles. \nTarget species will be reed\, sedge\, grasshopper and Cetti’s warblers\, whitethroat\, reed bunting\, cuckoo and water rail\, as well as common waterfowl. We will cover grazing marsh\, estuarine and inshore marine habitats. \nPlease bring wellies\, water and snacks. There are no toilets. \nYour leader will be Eddie Hunter. \nThe parking location / meeting point for Margam Moors is: \n\nOrdnance Survey Grid Reference SS 78799 85421\nWhat3Words: rise.paces.overdone.\n\n \nPhoto by Walter Brunner on Unsplash
URL:https://www.gowerbirds.org.uk/event/margam-moors-field-trip/
LOCATION:Heol Caer Bont\, nr. Port Talbot Steelworks\, Margam\, Neath Port Talbot\, SA13 2NS\, United Kingdom
CATEGORIES:Field Trip
ATTACH;FMTTYPE=image/jpeg:https://www.gowerbirds.org.uk/wp-content/uploads/2024/04/walter-brunner-0kZiAafcEZk-unsplash-1.jpg
END:VEVENT
BEGIN:VEVENT
DTSTART;TZID=Europe/London:20240423T080000
DTEND;TZID=Europe/London:20240423T170000
DTSTAMP:20260420T034051
CREATED:20240328T214521Z
LAST-MODIFIED:20240411T072503Z
UID:4750-1713859200-1713891600@www.gowerbirds.org.uk
SUMMARY:Field Trip to Ham Wall
DESCRIPTION:A trip to Ham Wall to look for bittern\, glossy ibis\, egrets of three varieties\, marsh harrier\, bearded tit\, plenty of wildfowl and some reed bed warblers. \nContact Jeremy Jeremy@douglas-jones.biz if you are interested in coming along and would like further details. \nAs of 29/03 we have filled the mini bus. Others are welcome to come\, but will need to drive / lift share \nExpertise will be provided by Josh Greatorex-Davies\, who will lead the walk around \nPhotograph by Bob Frewin
URL:https://www.gowerbirds.org.uk/event/field-trip-to-ham-wall/
LOCATION:RSPB Ham Wall\, Meare\, Ashcott\, Glastonbury\, BA6 9SX\, United Kingdom
CATEGORIES:Field Trip
ATTACH;FMTTYPE=image/jpeg:https://www.gowerbirds.org.uk/wp-content/uploads/2024/03/bob-frewin-GkhKkHC0Mek-unsplash.jpg
END:VEVENT
BEGIN:VEVENT
DTSTART;TZID=Europe/London:20240419T191500
DTEND;TZID=Europe/London:20240419T210000
DTSTAMP:20260420T034051
CREATED:20240303T185332Z
LAST-MODIFIED:20240306T141544Z
UID:4598-1713554100-1713560400@www.gowerbirds.org.uk
SUMMARY:Reintroduction of the white-tailed eagle to Wales
DESCRIPTION:Sophie Lee-Williams\, white-tailed eagle project officer for the Durrell Wildlife Conservation Trust will talk to us about all aspects of the proposed reintroduction of the species to Wales. \nSophie has addressed us before and is an excellent and engaging speaker.
URL:https://www.gowerbirds.org.uk/event/reintroduction-of-the-white-tailed-eagle-to-wales/
LOCATION:St Paul’s Parish Hall\, De la Beche Road\, Swansea\, SA2 9AR\, United Kingdom
CATEGORIES:Indoor Meeting
ATTACH;FMTTYPE=image/jpeg:https://www.gowerbirds.org.uk/wp-content/uploads/2023/08/Eagle-Reintroduction-Wales-A3-poster-FOR-PRINTER_1.jpeg
ORGANIZER;CN="Jeremy D Jones":MAILTO:jeremy@douglas-jones.biz
END:VEVENT
BEGIN:VEVENT
DTSTART;TZID=Europe/London:20240328T080000
DTEND;TZID=Europe/London:20240430T170000
DTSTAMP:20260420T034051
CREATED:20240328T213300Z
LAST-MODIFIED:20240328T215523Z
UID:4746-1711612800-1714496400@www.gowerbirds.org.uk
SUMMARY:BTO Cymru April Training Events
DESCRIPTION:BTO Cymru want to enable more people in Wales to learn about birds\, to gain confidence with ID\, and to participate in BTO-led surveys this upcoming breeding season. If you would like to get involved\, please see BTO Cymru’s spring training events\, which includes both online and face-to-face bird ID training\, and outdoor training in Breeding Bird Survey techniques. See the following link to learn more and to sign up: https://www.bto.org/about-bto/national-offices/bto-cymru-english/events
URL:https://www.gowerbirds.org.uk/event/bto-cymru-training-events/
CATEGORIES:Field Trip,Indoor Meeting,Online Event
ATTACH;FMTTYPE=image/jpeg:https://www.gowerbirds.org.uk/wp-content/uploads/2024/03/2020-b032-john-harding-7510.jpg
END:VEVENT
BEGIN:VEVENT
DTSTART;TZID=Europe/London:20240323T080000
DTEND;TZID=Europe/London:20240323T110000
DTSTAMP:20260420T034051
CREATED:20231231T185823Z
LAST-MODIFIED:20231231T185847Z
UID:4603-1711180800-1711191600@www.gowerbirds.org.uk
SUMMARY:Penllergaer Woods Field Trip
DESCRIPTION:A trip around Penllergaer Valley Woods with your leader for the morning\, Rob Taylor. \nWe hope to catch up with a range of woodland species\, including goshawk\, sparrowhawk\, jay\, siskin\, marsh tit\, woodpeckers\, nuthatch and a variety of other species. The pools sometimes hold kingfisher as well as a range of common waterfowl. \nMeet at: The Visitor Centre Penllergare Valley Woods\, Penllergaer\, Swansea SA4 9GS \nOrdnance Survey Grid Reference SS 62351 99185\n\nWhat3Words : focus.stale.popped\n\n\nPlease bring suitable footwear for muddy paths and wet weather gear. The cafe should be open for refreshments at the end of the walk. \nPhoto by Andrey Gulivanov on Unsplash
URL:https://www.gowerbirds.org.uk/event/penllergaer-woods-field-trip/
LOCATION:Penllergare Valley Woods Visitor Centre\, Penllergare Valley Woods Visitor Centre\, Swansea\, SA4 9GS\, United Kingdom
CATEGORIES:Field Trip
ATTACH;FMTTYPE=image/jpeg:https://www.gowerbirds.org.uk/wp-content/uploads/2023/12/andrey-gulivanov-ErEd0VVggc8-unsplash-1.jpg
ORGANIZER;CN="Jeremy D Jones":MAILTO:jeremy@douglas-jones.biz
END:VEVENT
BEGIN:VEVENT
DTSTART;TZID=Europe/London:20240320T191500
DTEND;TZID=Europe/London:20240320T210000
DTSTAMP:20260420T034051
CREATED:20231231T185545Z
LAST-MODIFIED:20240306T141648Z
UID:4601-1710962100-1710968400@www.gowerbirds.org.uk
SUMMARY:The Hen Harrier in Wales
DESCRIPTION:Keith Offord\, a raptor specialist who has spent decades monitoring the fortunes of the hen harrier in upland Wales will talk to us about one of our rarest raptors and most enigmatic breeding species. Keith’s experience includes systematically surveying large areas of the Berwyn and Migneint Special Protection Areas in North Wales\, and providing detailed information on nest locations and breeding success of harriers\, and he is an acknowledged expert on the species.
URL:https://www.gowerbirds.org.uk/event/the-hen-harrier-in-wales/
CATEGORIES:Online Event
ATTACH;FMTTYPE=image/jpeg:https://www.gowerbirds.org.uk/wp-content/uploads/2023/08/Hen-Harrier-male-flight-H148-2020-Keith-Offord-WM-lo-res.jpg
ORGANIZER;CN="Jeremy D Jones":MAILTO:jeremy@douglas-jones.biz
END:VEVENT
BEGIN:VEVENT
DTSTART;TZID=Europe/London:20240316T090000
DTEND;TZID=Europe/London:20240316T123000
DTSTAMP:20260420T034051
CREATED:20231231T185052Z
LAST-MODIFIED:20231231T185120Z
UID:4594-1710579600-1710592200@www.gowerbirds.org.uk
SUMMARY:Crofty Field Trip
DESCRIPTION:Leader Barry Stewart: 07730 502738 \nHigh tide watch to see waterfowl (egrets\, brent geese\, pintail\, shoveler\, etc.) and waders (oystercatchers\, knot\, dunlin etc.) at Salthouse Point together with waterbirds that may have drifted up on the high tide (such as slavonian and great crested grebes). There should also be a selection of passerines in the scrub and on the saltmarsh\, and a good chance of raptors such as peregrine and merlin. \nMeet at Crofty Industrial Estate. \n\nGrid Reference SS526954\nWhat3Words: samplers.apron.escorting\nAddress: Crofty Industrial Estate\, Llanrhidian Higher\, Crofty\, Swansea\, Wales\, SA4 3RP\n\nPhoto by Naveen Naidu on Unsplash
URL:https://www.gowerbirds.org.uk/event/crofty-field-trip/
LOCATION:Crofty Industrial Estate\, Crofty Industrial Estate\, Crofty\, SA4 3RP\, United Kingdom
CATEGORIES:Field Trip
ATTACH;FMTTYPE=image/jpeg:https://www.gowerbirds.org.uk/wp-content/uploads/2022/03/Crofty1.jpg
ORGANIZER;CN="Barry Stewart":MAILTO:jeremy@douglas-jones.biz
END:VEVENT
BEGIN:VEVENT
DTSTART;TZID=Europe/London:20240210T080000
DTEND;TZID=Europe/London:20240210T120000
DTSTAMP:20260420T034051
CREATED:20231231T184828Z
LAST-MODIFIED:20231231T184828Z
UID:4587-1707552000-1707566400@www.gowerbirds.org.uk
SUMMARY:Cilsan and Dryslwyn Field Trip
DESCRIPTION:A venture over the border into Carmarthenshire with our leader Ed Hunter. \nThe aim will be to search the area around the River Tywi for flocks of mute and whooper swans and geese (greylag\, white-fronted and bean geese have all occurred in the area in the past)\, egrets\, green sandpiper\, kingfisher and water pipits. The area is also good for otter. \nMeet at: Dryslwyn Picnic Site\, B4297\, Dryslwyn\, Llangathen\, Cwrt-henri\, Carmarthenshire\, Wales\, SA32 8RN\, United Kingdom. \n\nOrdnance Survey Grid Reference: SN 55240 20300\nWhat3Words: drama.surveyors.retaliate
URL:https://www.gowerbirds.org.uk/event/cilsan-and-dryslwyn-field-trip/
LOCATION:Dryslwyn Picnic Site\, Dryslwyn Picnic Site\, Carmarthen\, Carmarthenshire\, SA32 8RN\, United Kingdom
CATEGORIES:Field Trip
ATTACH;FMTTYPE=image/jpeg:https://www.gowerbirds.org.uk/wp-content/uploads/2023/12/stan-k-ERdOT8GIsBw-unsplash.jpg
ORGANIZER;CN="Gower Birds":MAILTO:info@gowerbirds.org.uk
END:VEVENT
BEGIN:VEVENT
DTSTART;TZID=Europe/London:20240126T190000
DTEND;TZID=Europe/London:20240126T210000
DTSTAMP:20260420T034051
CREATED:20231231T184224Z
LAST-MODIFIED:20231231T184410Z
UID:4579-1706295600-1706302800@www.gowerbirds.org.uk
SUMMARY:GOS Annual Quiz
DESCRIPTION:Our own version of Anne Robinson (in the form of Heather Coates) will be the host for the annual Margaret Price Memorial Quiz. Expect wit\, repartee\, the odd scolding\, and a mixture of easy\, difficult and obscure questions. It is £1 on the door to cover room hire\, and there will be opportunity to catch up with members before and after the event. \nWe look forward to seeing you there.
URL:https://www.gowerbirds.org.uk/event/gos-annual-quiz/
LOCATION:St Paul’s Parish Hall\, De la Beche Road\, Swansea\, SA2 9AR\, United Kingdom
CATEGORIES:Indoor Meeting
ATTACH;FMTTYPE=image/jpeg:https://www.gowerbirds.org.uk/wp-content/uploads/2022/12/olav-ahrens-rotne-jvBXiynINGE-unsplash.jpg
ORGANIZER;CN="Owain Gabb":MAILTO:owain.gabb@gmail.com
END:VEVENT
BEGIN:VEVENT
DTSTART;TZID=Europe/London:20240106T123000
DTEND;TZID=Europe/London:20240106T153000
DTSTAMP:20260420T034051
CREATED:20231231T184236Z
LAST-MODIFIED:20231231T184236Z
UID:4575-1704544200-1704555000@www.gowerbirds.org.uk
SUMMARY:Llanrhidian Roost Watch
DESCRIPTION:Ed Hunter will lead the first field trip of the New Year to Llanrhidian. \nThis will be afternoon watch to look for harriers (hen\, marsh and potentially pallid)\, egrets and falcons and what else comes into view (short-eared owl and barn owl are sometimes present). \nMeet at the Cattle Grid at the junction of the marsh road and the lane down from the main North Gower Road B4295. \nLocation: \n\nOrdnance Survey Grid Reference SS 50333 93315\nWhat3Words: outermost.weep.spaces\nLlanrhidian Lower\, Llanrhidian\, Swansea\, Wales\, SA3 1EU\, United Kingdom\n\nPlease wear warm clothes and bring a picnic chair and flask. \nLate arrivals and early leavers welcome. We will be completing a static watch / only walking a very short distance.
URL:https://www.gowerbirds.org.uk/event/llanrhidian-roost-watch/
LOCATION:Llanrhidian\, Swansea\, Swansea\, SA3 1EU\, United Kingdom
CATEGORIES:Field Trip
ATTACH;FMTTYPE=image/jpeg:https://www.gowerbirds.org.uk/wp-content/uploads/2023/12/vincent-van-zalinge-rbaU7FIad-w-unsplash-1.jpg
ORGANIZER;CN="Ed Hunter":MAILTO:edhunterhere@yahoo.com
END:VEVENT
END:VCALENDAR