BEGIN:VCALENDAR
VERSION:2.0
PRODID:-//Gower Ornithological Society - ECPv6.15.20//NONSGML v1.0//EN
CALSCALE:GREGORIAN
METHOD:PUBLISH
X-WR-CALNAME:Gower Ornithological Society
X-ORIGINAL-URL:https://www.gowerbirds.org.uk
X-WR-CALDESC:Events for Gower Ornithological Society
REFRESH-INTERVAL;VALUE=DURATION:PT1H
X-Robots-Tag:noindex
X-PUBLISHED-TTL:PT1H
BEGIN:VTIMEZONE
TZID:Europe/London
BEGIN:DAYLIGHT
TZOFFSETFROM:+0000
TZOFFSETTO:+0100
TZNAME:BST
DTSTART:20250330T010000
END:DAYLIGHT
BEGIN:STANDARD
TZOFFSETFROM:+0100
TZOFFSETTO:+0000
TZNAME:GMT
DTSTART:20251026T010000
END:STANDARD
BEGIN:DAYLIGHT
TZOFFSETFROM:+0000
TZOFFSETTO:+0100
TZNAME:BST
DTSTART:20260329T010000
END:DAYLIGHT
BEGIN:STANDARD
TZOFFSETFROM:+0100
TZOFFSETTO:+0000
TZNAME:GMT
DTSTART:20261025T010000
END:STANDARD
BEGIN:DAYLIGHT
TZOFFSETFROM:+0000
TZOFFSETTO:+0100
TZNAME:BST
DTSTART:20270328T010000
END:DAYLIGHT
BEGIN:STANDARD
TZOFFSETFROM:+0100
TZOFFSETTO:+0000
TZNAME:GMT
DTSTART:20271031T010000
END:STANDARD
END:VTIMEZONE
BEGIN:VEVENT
DTSTART;TZID=Europe/London:20260123T191500
DTEND;TZID=Europe/London:20260123T210000
DTSTAMP:20260420T012321
CREATED:20250427T162835Z
LAST-MODIFIED:20250427T162921Z
UID:5394-1769195700-1769202000@www.gowerbirds.org.uk
SUMMARY:GOS Annual Quiz
DESCRIPTION:Owain Gabb will be your host for our annual quiz. \nThe cost will be £1 on the door.
URL:https://www.gowerbirds.org.uk/event/gos-annual-quiz-2/
LOCATION:St Paul’s Church Hall\, De la Beche Road\, Sketty
CATEGORIES:Indoor Meeting
ATTACH;FMTTYPE=image/jpeg:https://www.gowerbirds.org.uk/wp-content/uploads/2025/04/Pointless.jpg
END:VEVENT
BEGIN:VEVENT
DTSTART;TZID=Europe/London:20260131T080000
DTEND;TZID=Europe/London:20260131T110000
DTSTAMP:20260420T012321
CREATED:20240828T204013Z
LAST-MODIFIED:20250616T210149Z
UID:4954-1769846400-1769857200@www.gowerbirds.org.uk
SUMMARY:Crofty Field Trip
DESCRIPTION:Leader: Barry Stewart 07730 502738 \nMeet at 08:00 at Crofty Industrial Estate SA4 3RS /// zaps.trophy.solve\nParking is shown on the cover photo above (see red dot). \nThis will be a high tide watch to see waterfowl (egrets\, brent geese\, pintail\, shoveler\, etc.) and waders (oystercatchers\, knot\, dunlin etc.) at Salthouse Point together with waterbirds that may have drifted up on the high tide (such as slavonian and great crested grebes). There should also be a selection of passerines in the scrub and on the saltmarsh\, and a good chance of raptors such as peregrine and merlin. \nBring wellies or walking boots\, warm clothing and any refreshments you need.
URL:https://www.gowerbirds.org.uk/event/crofty-walk/
CATEGORIES:Field Trip
ATTACH;FMTTYPE=image/jpeg:https://www.gowerbirds.org.uk/wp-content/uploads/2024/08/Crofty.jpg
ORGANIZER;CN="Jeremy D Jones":MAILTO:jeremy@douglas-jones.biz
END:VEVENT
BEGIN:VEVENT
DTSTART;TZID=Europe/London:20260220T191500
DTEND;TZID=Europe/London:20260220T210000
DTSTAMP:20260420T012321
CREATED:20250427T163340Z
LAST-MODIFIED:20250427T183208Z
UID:5398-1771614900-1771621200@www.gowerbirds.org.uk
SUMMARY:The storm-petrel
DESCRIPTION:Dr Rob Thomas\, author of a recent book on storm-petrels in the Poyser series\, and a leading authority on European storm-petrel which he has studied for many years\, will address us on the ecology of the species.
URL:https://www.gowerbirds.org.uk/event/the-storm-petrel/
LOCATION:St Paul’s Church Hall\, De la Beche Road\, Sketty
CATEGORIES:Indoor Meeting
ATTACH;FMTTYPE=image/jpeg:https://www.gowerbirds.org.uk/wp-content/uploads/2025/04/70154970-cfcd-11ea-bff9-017f86ed541a.jpg
END:VEVENT
BEGIN:VEVENT
DTSTART;TZID=Europe/London:20260311T191500
DTEND;TZID=Europe/London:20260311T210000
DTSTAMP:20260420T012321
CREATED:20250427T164116Z
LAST-MODIFIED:20260303T045633Z
UID:5401-1773256500-1773262800@www.gowerbirds.org.uk
SUMMARY:To Antarctica and back with Arctic Terns
DESCRIPTION:Dr Chris Redfern will talk to us about Arctic terns. \nArctic terns are renowned for the global scale of their migration. The routes taken by individuals can be determined using small electronic ‘geolocators’ attached to a leg ring. These devices have been fitted to Arctic terns breeding on the Farne Islands\, Northumberland\, and need to be recaptured the following year to download data. A particular characteristic of the Farne Islands population has led to a high return rate of data which have given amazing insights into the annual migration of Farne Islands Arctic terns and how this differs from Arctic terns breeding further north in the North Atlantic. After breeding\, most birds from North Atlantic populations migrate directly south through the Atlantic to the Weddell Sea of Antarctica. In contrast\, birds from the Farne Islands turned east at the tip of South Africa and crossed the Southern Indian Ocean before dropping south to East Antarctica. This may be a migration strategy retained since the last ice age. In coastal Antarctica\, krill associated with fragmenting sea ice is an important resource sustaining their lifestyle and annual moult. Reductions in sea ice as a result of climate change threats the long-term future of Arctic terns. Northward spring migration through the Atlantic is rapid and likely timed to utilise foraging resources in the Antarctic and along the way to ensure arrival at the colony at the appropriate time and condition for breeding. \nLog in details are as follows: \nhttps://us06web.zoom.us/j/84292407132?pwd=va7LknBboFIzj8EhjBbYIXF5BbLaOO.1 \nMeeting ID: 842 9240 7132 \nPasscode: 713890 \nPhoto by Bernd 📷 Dittrich on Unsplash
URL:https://www.gowerbirds.org.uk/event/to-antarctica-and-back-with-arctic-terns/
CATEGORIES:Online Event
ATTACH;FMTTYPE=image/jpeg:https://www.gowerbirds.org.uk/wp-content/uploads/2025/04/Arctic-tern-1.jpg
END:VEVENT
BEGIN:VEVENT
DTSTART;TZID=Europe/London:20260313T191500
DTEND;TZID=Europe/London:20260313T210000
DTSTAMP:20260420T012321
CREATED:20250429T123024Z
LAST-MODIFIED:20260206T131134Z
UID:5408-1773429300-1773435600@www.gowerbirds.org.uk
SUMMARY:Birds of the Pembrokeshire Islands
DESCRIPTION:Dave Astins will talk to us about the birds of the Pembrokeshire Islands. \nThe Pembrokeshire Islands and the waters around them are important for a wide range of seabirds. Internationally important populations of gannet\, storm-petrel\, Manx shearwater\, puffin and lesser black-backed gull occur. The islands are also of international importance for their populations of breeding short-eared owl and chough. The supporting cast includes colonial cliff-nesting species – guillemot\, razorbill and kittiwake. \nIn addition to their importance to breeding birds\, they are also migration hotspots\, with regular falls of migrant passerines and a list of rare birds that is the envy of the rest of Wales. \nDave runs West Coast Birding\, which offers guided trips to many of the best sites in Pembrokeshire for seeing birds\, and is a veteran of numerous trips to Skomer in particular. \n£1 on the door to cover room hire. \nPhoto by Phil Botha on Unsplash
URL:https://www.gowerbirds.org.uk/event/birds-of-the-pembrokeshire-islands/
LOCATION:St Paul’s Church Hall\, De la Beche Road\, Sketty
CATEGORIES:Indoor Meeting
ATTACH;FMTTYPE=image/jpeg:https://www.gowerbirds.org.uk/wp-content/uploads/2025/04/Gannet.jpg
END:VEVENT
BEGIN:VEVENT
DTSTART;TZID=Europe/London:20260314T080000
DTEND;TZID=Europe/London:20260314T120000
DTSTAMP:20260420T012321
CREATED:20240903T144545Z
LAST-MODIFIED:20250616T210807Z
UID:4973-1773475200-1773489600@www.gowerbirds.org.uk
SUMMARY:Kenfig NNR and Sker Point Field Trip
DESCRIPTION:Join us for a walk around Kenfig and Sker. High tide is around 07:30\, so please arrive and be ready to head off by 08:00. Bring warm clothing\, a thermos and whatever food you will need. We will be out for the morning. \nOur target species will be waders\, wildfowl\, seabirds and early-arriving warblers\, as well as lingering wintering raptors and resident passerines.\nYour leader will be Ed Hunter.\nParking is at Kenfig Nature Reserve car park. The cost is £4.00 for the day. \n\nOS Grid Reference SS 793817\nWhat3Words: ///gears.caskets.iteration\nThe post code is CF33 4PS
URL:https://www.gowerbirds.org.uk/event/margam-moors-field-trip-2/
CATEGORIES:Field Trip
ATTACH;FMTTYPE=image/jpeg:https://www.gowerbirds.org.uk/wp-content/uploads/2024/09/Kenfig-car-park-.jpg
ORGANIZER;CN="Jeremy D Jones":MAILTO:jeremy@douglas-jones.biz
END:VEVENT
BEGIN:VEVENT
DTSTART;TZID=Europe/London:20260415T193000
DTEND;TZID=Europe/London:20260415T210000
DTSTAMP:20260420T012321
CREATED:20250502T150657Z
LAST-MODIFIED:20260411T192819Z
UID:5416-1776281400-1776286800@www.gowerbirds.org.uk
SUMMARY:Cudyll Cymru - a new dawn for monitoring raptors in Wales
DESCRIPTION:Charlotte Griffiths will talk to us about raptor monitoring in Wales. Online joining instructions are below. \nCharlotte is the BTO’s Welsh Raptor Monitoring Coordinator\, and a passionate raptor enthusiast. She an active member of the Shropshire Raptor Study Group\, where she has gained extensive field experience and in-depth knowledge of raptor behaviour and ecology. \nCharlotte will talk to us about Cudyll Cymru\, BTO’s Welsh Raptor Monitoring Project. Her role for the last couple of years has been to develop and co-ordinate raptor population monitoring efforts and obtain greater understanding of the populations of some of our commoner species in particular. Her day-to-day work includes provising training and support to the project’s network of monitors and developing resources that enhance fieldwork efforts. \nJoin Zoom Meeting \nhttps://us06web.zoom.us/j/85219105421?pwd=IswHb3gbEhge01OJ42V99lTQHK9gOv.1 \nMeeting ID: 852 1910 5421 \nPasscode: 610473
URL:https://www.gowerbirds.org.uk/event/cudyll-cymru-a-new-dawn-for-monitoring-raptors-in-wales/
CATEGORIES:Online Event
ATTACH;FMTTYPE=image/png:https://www.gowerbirds.org.uk/wp-content/uploads/2025/05/Cudyll-Cymru-logo-1-003.png
ORGANIZER;CN="Jeremy D Jones":MAILTO:jeremy@douglas-jones.biz
END:VEVENT
BEGIN:VEVENT
DTSTART;TZID=Europe/London:20260424T180000
DTEND;TZID=Europe/London:20260424T200000
DTSTAMP:20260420T012321
CREATED:20260308T200634Z
LAST-MODIFIED:20260308T200634Z
UID:5892-1777053600-1777060800@www.gowerbirds.org.uk
SUMMARY:Pant y Sais Fen Field Trip
DESCRIPTION:Join us at Pant y Sais Fen\, Jersey Marine\, for an evening walk focussed on reed bed species including reed\, sedge\, Cetti’s and grasshopper warblers\, cuckoo and common waterfowl. We also expect species such as willow warbler and whitethroat around the fringes of the reedbed. \nBob Tallack will lead. The meeting point will be on Heil yr Yrsgol\, Jersey Marine\, Ordnance Survey Grid Reference SS71172 93893 \nWhat3Words: FUND.CARPENTER.CRUSHER \n 
URL:https://www.gowerbirds.org.uk/event/pant-y-sais-fen-field-trip/
LOCATION:Heil yr Ysgol\, Jersey Marine
CATEGORIES:Field Trip
ATTACH;FMTTYPE=image/avif:https://www.gowerbirds.org.uk/wp-content/uploads/2026/03/photo-1684673397407-0e3414810cfd.avif
ORGANIZER;CN="Jeremy D Jones":MAILTO:jeremy@douglas-jones.biz
END:VEVENT
BEGIN:VEVENT
DTSTART;TZID=Europe/London:20260524T090000
DTEND;TZID=Europe/London:20260524T090000
DTSTAMP:20260420T012321
CREATED:20250310T164455Z
LAST-MODIFIED:20260316T111010Z
UID:5326-1779613200-1779613200@www.gowerbirds.org.uk
SUMMARY:Brecon and Llangorse Field Trip
DESCRIPTION:A trip up to Storey Arms\, near Brecon to look for curlew\, snipe\, wheatear and ring ouzel before moving on to Llangorse Lake for species including osprey and goshawk. Other species are likely to include redstart and tree pipit. The location and scenery should be fantastic. \nOur first meeting point will be at Craig y Fro on the A470 between Merthyr and Brecon. Ordnance Survey Grid Reference SN 97138 20859 (just over 1 km beyond the Storey Arms Centre – in the direction of Brecon). \nLocation: https://gridreferencefinder.com/#gr=OF8898819980|Point_s_A|1\,SN9713820859|SN_s_97138_s_20859|1 \n(drag the map across so you are looking at Wales and zoom in on the red place marker near Brecon) \nPlease make sure to register your intention to attend with Jeremy. He will try and suggest some car sharing options for anyone going. \nYour leader will be Eddie Hunter.
URL:https://www.gowerbirds.org.uk/event/brecon-field-trip/
CATEGORIES:Field Trip
ATTACH;FMTTYPE=image/jpeg:https://www.gowerbirds.org.uk/wp-content/uploads/2025/03/keith-luke-FrVt6GrCvw-unsplash-1.jpg
ORGANIZER;CN="Jeremy D Jones":MAILTO:jeremy@douglas-jones.biz
END:VEVENT
BEGIN:VEVENT
DTSTART;TZID=Europe/London:20260619T200000
DTEND;TZID=Europe/London:20260619T223000
DTSTAMP:20260420T012321
CREATED:20250310T174232Z
LAST-MODIFIED:20260308T121405Z
UID:5335-1781899200-1781908200@www.gowerbirds.org.uk
SUMMARY:Nightjar field trip: Resolven
DESCRIPTION:A walk into the forestry at Abergarwed\, Resolven\, to watch and listen for nightjar. Other species that have the potential to be present include goshawk\, crossbill\, lesser redpoll\, siskin\, grasshopper warbler and a range of more widespread species. \nThe event will be led by Eddie Hunter\, and will be a couple of hours duration. \nPlease bring midge repellent\, snacks / drink and ensure you wear appropriate footwear for the rough tracks that we will be walking on. \nPark off B4242 south of Abergarwed at Ordnance Survey Grid Reference SN 81343 02218\, What3Words ///ants.tortoises.director \nPlease register with Jeremy Douglas-Jones in case we need to refine arrangements.
URL:https://www.gowerbirds.org.uk/event/nightjar-field-trip-resolven/
CATEGORIES:Field Trip
ATTACH;FMTTYPE=image/jpeg:https://www.gowerbirds.org.uk/wp-content/uploads/2025/03/Adult-nightjar-on-nest-in-clear-felled-plantation.jpg
ORGANIZER;CN="Jeremy D Jones":MAILTO:jeremy@douglas-jones.biz
END:VEVENT
BEGIN:VEVENT
DTSTART;TZID=Europe/London:20260718T080000
DTEND;TZID=Europe/London:20260718T110000
DTSTAMP:20260420T012321
CREATED:20240501T165922Z
LAST-MODIFIED:20260308T121648Z
UID:4787-1784361600-1784372400@www.gowerbirds.org.uk
SUMMARY:Oxwich Marsh Ringing Demonstration
DESCRIPTION:Join Gower Ringing Group at Oxwich Marsh. The timing of the field trip should ensure that fledgling willow\, sedge\, reed\, Cetti’s and grasshopper warbler are likely\, along with tits\, finches\, reed buntings and a variety of other species. Previous attendees have seen species such as kingfisher and hawfinch. \nOwain Gabb will talk you through the features of the species captured\, including how you identify and age them\, and the biometric data the group takes on behalf of the BTO. \nThe meeting point is in the large field on the marsh road. You will be met and greeted\, and we will then assemble at a discreet distance from the ringing area\, allowing birds to be brought across to us once they have been processed by the team. Please bring appropriate clothing for the weather\, food and drink and a fold out chair\, as there will be time spent waiting for birds to be brought to us. \nThe event will be called off if there is significant rain or wind forecast. \nThe gate to the field in which we will meet is at: \n\nGrid Reference SS 50282 87259\nX (Easting) \, Y (Northing) 250282 \, 187259\nLatitude \, Longitude (degs\, mins\, secs) 51°33′51″N \, 004°09′41″W\nWhat3Words: firebird.liked.bucket\nThe address is given as: Penrice\, Oxwich\, Swansea\, Wales\, SA3 1LS\, United Kingdom (but please don’t rely on the post code for your SatNav).\n\nSee below \n\n 
URL:https://www.gowerbirds.org.uk/event/oxwich-marsh-ringing-demonstration/
CATEGORIES:Field Trip
ATTACH;FMTTYPE=image/jpeg:https://www.gowerbirds.org.uk/wp-content/uploads/2024/05/grawa.jpg
ORGANIZER;CN="Jeremy D Jones":MAILTO:jeremy@douglas-jones.biz
END:VEVENT
END:VCALENDAR